BEGIN:VCALENDAR
VERSION:2.0
PRODID:-//umberio GmbH - ECPv6.15.17//NONSGML v1.0//EN
CALSCALE:GREGORIAN
METHOD:PUBLISH
X-WR-CALNAME:umberio GmbH
X-ORIGINAL-URL:https://www.umberio.at
X-WR-CALDESC:Veranstaltungen für umberio GmbH
REFRESH-INTERVAL;VALUE=DURATION:PT1H
X-Robots-Tag:noindex
X-PUBLISHED-TTL:PT1H
BEGIN:VTIMEZONE
TZID:Europe/Vienna
BEGIN:DAYLIGHT
TZOFFSETFROM:+0100
TZOFFSETTO:+0200
TZNAME:CEST
DTSTART:20200329T010000
END:DAYLIGHT
BEGIN:STANDARD
TZOFFSETFROM:+0200
TZOFFSETTO:+0100
TZNAME:CET
DTSTART:20201025T010000
END:STANDARD
BEGIN:DAYLIGHT
TZOFFSETFROM:+0100
TZOFFSETTO:+0200
TZNAME:CEST
DTSTART:20210328T010000
END:DAYLIGHT
BEGIN:STANDARD
TZOFFSETFROM:+0200
TZOFFSETTO:+0100
TZNAME:CET
DTSTART:20211031T010000
END:STANDARD
BEGIN:DAYLIGHT
TZOFFSETFROM:+0100
TZOFFSETTO:+0200
TZNAME:CEST
DTSTART:20220327T010000
END:DAYLIGHT
BEGIN:STANDARD
TZOFFSETFROM:+0200
TZOFFSETTO:+0100
TZNAME:CET
DTSTART:20221030T010000
END:STANDARD
END:VTIMEZONE
BEGIN:VEVENT
DTSTART;TZID=Europe/Vienna:20210526T140000
DTEND;TZID=Europe/Vienna:20210526T160000
DTSTAMP:20260423T195637
CREATED:20210422T150041Z
LAST-MODIFIED:20210422T151907Z
UID:14955-1622037600-1622044800@www.umberio.at
SUMMARY:D&O und Managerversicherungen
DESCRIPTION:(mehr …)
URL:https://www.umberio.at/event/do-und-managerversicherungen/
LOCATION:Online
END:VEVENT
BEGIN:VEVENT
DTSTART;TZID=Europe/Vienna:20210527T110000
DTEND;TZID=Europe/Vienna:20210527T130000
DTSTAMP:20260423T195637
CREATED:20210502T180631Z
LAST-MODIFIED:20210502T180631Z
UID:15014-1622113200-1622120400@www.umberio.at
SUMMARY:Cyber- und Vertrauensschadenversicherung
DESCRIPTION:(mehr …)
URL:https://www.umberio.at/event/cyber-und-vertrauensschadenversicherung/
LOCATION:Online
END:VEVENT
END:VCALENDAR