BEGIN:VCALENDAR
VERSION:2.0
PRODID:-//umberio GmbH - ECPv6.15.17//NONSGML v1.0//EN
CALSCALE:GREGORIAN
METHOD:PUBLISH
X-WR-CALNAME:umberio GmbH
X-ORIGINAL-URL:https://www.umberio.at
X-WR-CALDESC:Veranstaltungen für umberio GmbH
REFRESH-INTERVAL;VALUE=DURATION:PT1H
X-Robots-Tag:noindex
X-PUBLISHED-TTL:PT1H
BEGIN:VTIMEZONE
TZID:Europe/Vienna
BEGIN:DAYLIGHT
TZOFFSETFROM:+0100
TZOFFSETTO:+0200
TZNAME:CEST
DTSTART:20200329T010000
END:DAYLIGHT
BEGIN:STANDARD
TZOFFSETFROM:+0200
TZOFFSETTO:+0100
TZNAME:CET
DTSTART:20201025T010000
END:STANDARD
BEGIN:DAYLIGHT
TZOFFSETFROM:+0100
TZOFFSETTO:+0200
TZNAME:CEST
DTSTART:20210328T010000
END:DAYLIGHT
BEGIN:STANDARD
TZOFFSETFROM:+0200
TZOFFSETTO:+0100
TZNAME:CET
DTSTART:20211031T010000
END:STANDARD
BEGIN:DAYLIGHT
TZOFFSETFROM:+0100
TZOFFSETTO:+0200
TZNAME:CEST
DTSTART:20220327T010000
END:DAYLIGHT
BEGIN:STANDARD
TZOFFSETFROM:+0200
TZOFFSETTO:+0100
TZNAME:CET
DTSTART:20221030T010000
END:STANDARD
END:VTIMEZONE
BEGIN:VEVENT
DTSTART;VALUE=DATE:20210610
DTEND;VALUE=DATE:20210612
DTSTAMP:20260423T183646
CREATED:20210525T193914Z
LAST-MODIFIED:20210525T194010Z
UID:15112-1623283200-1623455999@www.umberio.at
SUMMARY:umberio-Tage in Großarl
DESCRIPTION:(mehr …)
URL:https://www.umberio.at/event/umberio-tage-in-grossarl/
LOCATION:Hotel Edelweiss Großarl\, Unterbergstrasse 65\, Großarl\, Salzburg\, 5611\, Österreich
ORGANIZER;CN="umberio gmbh":MAILTO:s.ott@umberio.at
END:VEVENT
BEGIN:VEVENT
DTSTART;TZID=Europe/Vienna:20210623T110000
DTEND;TZID=Europe/Vienna:20210623T130000
DTSTAMP:20260423T183646
CREATED:20210502T180825Z
LAST-MODIFIED:20210502T180825Z
UID:15016-1624446000-1624453200@www.umberio.at
SUMMARY:Ausgewählte Themen aus dem Versicherungsvertragsgesetz
DESCRIPTION:(mehr …)
URL:https://www.umberio.at/event/ausgewaehlte-themen-aus-dem-versicherungsvertragsgesetz/
LOCATION:Online
END:VEVENT
BEGIN:VEVENT
DTSTART;TZID=Europe/Vienna:20210624T110000
DTEND;TZID=Europe/Vienna:20210624T130000
DTSTAMP:20260423T183646
CREATED:20210502T180938Z
LAST-MODIFIED:20210502T180938Z
UID:15018-1624532400-1624539600@www.umberio.at
SUMMARY:Gefahr des täglichen Lebens in der Haushaltsversicherung
DESCRIPTION:(mehr …)
URL:https://www.umberio.at/event/gefahr-des-taeglichen-lebens-in-der-haushaltsversicherung/
LOCATION:Online
END:VEVENT
BEGIN:VEVENT
DTSTART;TZID=Europe/Vienna:20210629T110000
DTEND;TZID=Europe/Vienna:20210629T130000
DTSTAMP:20260423T183646
CREATED:20210505T194133Z
LAST-MODIFIED:20210505T194133Z
UID:15070-1624964400-1624971600@www.umberio.at
SUMMARY:Bauversicherungen
DESCRIPTION:(mehr …)
URL:https://www.umberio.at/event/bauversicherungen/
LOCATION:Online
END:VEVENT
BEGIN:VEVENT
DTSTART;TZID=Europe/Vienna:20210630T110000
DTEND;TZID=Europe/Vienna:20210630T130000
DTSTAMP:20260423T183646
CREATED:20210505T194233Z
LAST-MODIFIED:20210505T194629Z
UID:15072-1625050800-1625058000@www.umberio.at
SUMMARY:Montageversicherung
DESCRIPTION:(mehr …)
URL:https://www.umberio.at/event/bauversicherungen-2/
LOCATION:Online
END:VEVENT
END:VCALENDAR