BEGIN:VCALENDAR
VERSION:2.0
PRODID:-//umberio GmbH - ECPv6.15.17//NONSGML v1.0//EN
CALSCALE:GREGORIAN
METHOD:PUBLISH
X-WR-CALNAME:umberio GmbH
X-ORIGINAL-URL:https://www.umberio.at
X-WR-CALDESC:Veranstaltungen für umberio GmbH
REFRESH-INTERVAL;VALUE=DURATION:PT1H
X-Robots-Tag:noindex
X-PUBLISHED-TTL:PT1H
BEGIN:VTIMEZONE
TZID:Europe/Vienna
BEGIN:DAYLIGHT
TZOFFSETFROM:+0100
TZOFFSETTO:+0200
TZNAME:CEST
DTSTART:20210328T010000
END:DAYLIGHT
BEGIN:STANDARD
TZOFFSETFROM:+0200
TZOFFSETTO:+0100
TZNAME:CET
DTSTART:20211031T010000
END:STANDARD
BEGIN:DAYLIGHT
TZOFFSETFROM:+0100
TZOFFSETTO:+0200
TZNAME:CEST
DTSTART:20220327T010000
END:DAYLIGHT
BEGIN:STANDARD
TZOFFSETFROM:+0200
TZOFFSETTO:+0100
TZNAME:CET
DTSTART:20221030T010000
END:STANDARD
BEGIN:DAYLIGHT
TZOFFSETFROM:+0100
TZOFFSETTO:+0200
TZNAME:CEST
DTSTART:20230326T010000
END:DAYLIGHT
BEGIN:STANDARD
TZOFFSETFROM:+0200
TZOFFSETTO:+0100
TZNAME:CET
DTSTART:20231029T010000
END:STANDARD
END:VTIMEZONE
BEGIN:VEVENT
DTSTART;TZID=Europe/Vienna:20220310T090000
DTEND;TZID=Europe/Vienna:20220310T170000
DTSTAMP:20260423T065027
CREATED:20220217T114952Z
LAST-MODIFIED:20220225T202410Z
UID:15674-1646902800-1646931600@www.umberio.at
SUMMARY:OO/OR Schulung - 10.03.2022
DESCRIPTION:(mehr …)
URL:https://www.umberio.at/event/oo-or-schulung/
LOCATION:Landhotel Gschirnwirt Eugendorf\, Alte Wiener Strasse 49\, Eugendorf\, Salzburg\, 5301\, Österreich
CATEGORIES:Schulung
ORGANIZER;CN="umberio gmbh":MAILTO:s.ott@umberio.at
END:VEVENT
BEGIN:VEVENT
DTSTART;TZID=Europe/Vienna:20220317T090000
DTEND;TZID=Europe/Vienna:20220317T170000
DTSTAMP:20260423T065027
CREATED:20220217T115053Z
LAST-MODIFIED:20220225T202212Z
UID:15677-1647507600-1647536400@www.umberio.at
SUMMARY:OO/OR Schulung - 17.03.2022
DESCRIPTION:(mehr …)
URL:https://www.umberio.at/event/oo-or-schulung-17-03-20-22/
LOCATION:Donau Salzburg\, Friedensstraße 11\, Salzburg\, Salzburg\, 5020\, Österreich
CATEGORIES:Schulung
ORGANIZER;CN="umberio gmbh":MAILTO:s.ott@umberio.at
END:VEVENT
BEGIN:VEVENT
DTSTART;TZID=Europe/Vienna:20220325T090000
DTEND;TZID=Europe/Vienna:20220326T130000
DTSTAMP:20260423T065027
CREATED:20220208T091717Z
LAST-MODIFIED:20220208T190340Z
UID:15577-1648198800-1648299600@www.umberio.at
SUMMARY:B+F & umberio Tage
DESCRIPTION:(mehr …)
URL:https://www.umberio.at/event/bf-umberio-tage/
LOCATION:Hofgut Apartment & Lifestyle Resort Wagrain\, Wagrainer Strasse 24\, Wagrain\, Salzburg\, 5602\, Österreich
ORGANIZER;CN="umberio & B+F Gruppe":MAILTO:s.ott@umberio.at
END:VEVENT
BEGIN:VEVENT
DTSTART;TZID=Europe/Vienna:20220329T140000
DTEND;TZID=Europe/Vienna:20220329T180000
DTSTAMP:20260423T065027
CREATED:20220206T215343Z
LAST-MODIFIED:20220321T065232Z
UID:15610-1648562400-1648576800@www.umberio.at
SUMMARY:Webinar: Bauversicherungen - Update unter Berücksichtigung der neuen EU-Taxonomie-Verordnung
DESCRIPTION:(mehr …)
URL:https://www.umberio.at/event/webinar-bauversicherungen-update-unter-beruecksichtigung-der-neuen-eu-taxonomie-verordnung/
LOCATION:Salzburg
END:VEVENT
END:VCALENDAR