BEGIN:VCALENDAR
VERSION:2.0
PRODID:-//umberio GmbH - ECPv6.15.17//NONSGML v1.0//EN
CALSCALE:GREGORIAN
METHOD:PUBLISH
X-ORIGINAL-URL:https://www.umberio.at
X-WR-CALDESC:Veranstaltungen für umberio GmbH
REFRESH-INTERVAL;VALUE=DURATION:PT1H
X-Robots-Tag:noindex
X-PUBLISHED-TTL:PT1H
BEGIN:VTIMEZONE
TZID:Europe/Vienna
BEGIN:DAYLIGHT
TZOFFSETFROM:+0100
TZOFFSETTO:+0200
TZNAME:CEST
DTSTART:20210328T010000
END:DAYLIGHT
BEGIN:STANDARD
TZOFFSETFROM:+0200
TZOFFSETTO:+0100
TZNAME:CET
DTSTART:20211031T010000
END:STANDARD
BEGIN:DAYLIGHT
TZOFFSETFROM:+0100
TZOFFSETTO:+0200
TZNAME:CEST
DTSTART:20220327T010000
END:DAYLIGHT
BEGIN:STANDARD
TZOFFSETFROM:+0200
TZOFFSETTO:+0100
TZNAME:CET
DTSTART:20221030T010000
END:STANDARD
BEGIN:DAYLIGHT
TZOFFSETFROM:+0100
TZOFFSETTO:+0200
TZNAME:CEST
DTSTART:20230326T010000
END:DAYLIGHT
BEGIN:STANDARD
TZOFFSETFROM:+0200
TZOFFSETTO:+0100
TZNAME:CET
DTSTART:20231029T010000
END:STANDARD
END:VTIMEZONE
BEGIN:VEVENT
DTSTART;TZID=Europe/Vienna:20220908T090000
DTEND;TZID=Europe/Vienna:20220908T163000
DTSTAMP:20260422T220218
CREATED:20220713T045141Z
LAST-MODIFIED:20220808T115017Z
UID:16259-1662627600-1662654600@www.umberio.at
SUMMARY:8.9.2022 Spartentreffen
DESCRIPTION:(mehr …)
URL:https://www.umberio.at/event/8-9-2022-spartentreffen/
LOCATION:Landhotel Gschirnwirt Eugendorf\, Alte Wiener Strasse 49\, Eugendorf\, Salzburg\, 5301\, Österreich
CATEGORIES:Schulung,Sparten
ORGANIZER;CN="umberio gmbh":MAILTO:s.ott@umberio.at
END:VEVENT
BEGIN:VEVENT
DTSTART;TZID=Europe/Vienna:20220913T140000
DTEND;TZID=Europe/Vienna:20220913T180000
DTSTAMP:20260422T220218
CREATED:20220708T075829Z
LAST-MODIFIED:20220708T075829Z
UID:16216-1663077600-1663092000@www.umberio.at
SUMMARY:Webinar Update Bauversicherung mit Norbert Jagerhofer
DESCRIPTION:(mehr …)
URL:https://www.umberio.at/event/webinar-update-bauversicherung-mit-norbert-jagerhofer/
LOCATION:Online
CATEGORIES:Schulung
END:VEVENT
BEGIN:VEVENT
DTSTART;TZID=Europe/Vienna:20220928T103000
DTEND;TZID=Europe/Vienna:20220928T110000
DTSTAMP:20260422T220218
CREATED:20220919T165755Z
LAST-MODIFIED:20220919T165755Z
UID:16402-1664361000-1664362800@www.umberio.at
SUMMARY:Webinar VERSDB
DESCRIPTION:(mehr …)
URL:https://www.umberio.at/event/webinar-versdb/
LOCATION:Salzburg
ORGANIZER;CN="umberio & versDB":MAILTO:s.ott@umberio.at
END:VEVENT
END:VCALENDAR