BEGIN:VCALENDAR
VERSION:2.0
PRODID:-//umberio GmbH - ECPv6.15.17//NONSGML v1.0//EN
CALSCALE:GREGORIAN
METHOD:PUBLISH
X-ORIGINAL-URL:https://www.umberio.at
X-WR-CALDESC:Veranstaltungen für umberio GmbH
REFRESH-INTERVAL;VALUE=DURATION:PT1H
X-Robots-Tag:noindex
X-PUBLISHED-TTL:PT1H
BEGIN:VTIMEZONE
TZID:Europe/Vienna
BEGIN:DAYLIGHT
TZOFFSETFROM:+0100
TZOFFSETTO:+0200
TZNAME:CEST
DTSTART:20230326T010000
END:DAYLIGHT
BEGIN:STANDARD
TZOFFSETFROM:+0200
TZOFFSETTO:+0100
TZNAME:CET
DTSTART:20231029T010000
END:STANDARD
BEGIN:DAYLIGHT
TZOFFSETFROM:+0100
TZOFFSETTO:+0200
TZNAME:CEST
DTSTART:20240331T010000
END:DAYLIGHT
BEGIN:STANDARD
TZOFFSETFROM:+0200
TZOFFSETTO:+0100
TZNAME:CET
DTSTART:20241027T010000
END:STANDARD
BEGIN:DAYLIGHT
TZOFFSETFROM:+0100
TZOFFSETTO:+0200
TZNAME:CEST
DTSTART:20250330T010000
END:DAYLIGHT
BEGIN:STANDARD
TZOFFSETFROM:+0200
TZOFFSETTO:+0100
TZNAME:CET
DTSTART:20251026T010000
END:STANDARD
END:VTIMEZONE
BEGIN:VEVENT
DTSTART;TZID=Europe/Vienna:20240222T090000
DTEND;TZID=Europe/Vienna:20240222T150000
DTSTAMP:20260421T224148
CREATED:20240205T063933Z
LAST-MODIFIED:20240208T082319Z
UID:17749-1708592400-1708614000@www.umberio.at
SUMMARY:22.02.2024 - umberio Spartentreffen
DESCRIPTION:(mehr …)
URL:https://www.umberio.at/event/22-02-2024-umberio-spartentreffen/
LOCATION:Wüstenrot Salzburg\, Alpenstrasse 70\, Salzburg\, Salzburg\, 5020\, Österreich
CATEGORIES:Social Event
ORGANIZER;CN="umberio gmbh":MAILTO:s.ott@umberio.at
END:VEVENT
END:VCALENDAR