BEGIN:VCALENDAR
VERSION:2.0
PRODID:-//umberio GmbH - ECPv6.15.17//NONSGML v1.0//EN
CALSCALE:GREGORIAN
METHOD:PUBLISH
X-ORIGINAL-URL:https://www.umberio.at
X-WR-CALDESC:Veranstaltungen für umberio GmbH
REFRESH-INTERVAL;VALUE=DURATION:PT1H
X-Robots-Tag:noindex
X-PUBLISHED-TTL:PT1H
BEGIN:VTIMEZONE
TZID:Europe/Vienna
BEGIN:DAYLIGHT
TZOFFSETFROM:+0100
TZOFFSETTO:+0200
TZNAME:CEST
DTSTART:20230326T010000
END:DAYLIGHT
BEGIN:STANDARD
TZOFFSETFROM:+0200
TZOFFSETTO:+0100
TZNAME:CET
DTSTART:20231029T010000
END:STANDARD
BEGIN:DAYLIGHT
TZOFFSETFROM:+0100
TZOFFSETTO:+0200
TZNAME:CEST
DTSTART:20240331T010000
END:DAYLIGHT
BEGIN:STANDARD
TZOFFSETFROM:+0200
TZOFFSETTO:+0100
TZNAME:CET
DTSTART:20241027T010000
END:STANDARD
BEGIN:DAYLIGHT
TZOFFSETFROM:+0100
TZOFFSETTO:+0200
TZNAME:CEST
DTSTART:20250330T010000
END:DAYLIGHT
BEGIN:STANDARD
TZOFFSETFROM:+0200
TZOFFSETTO:+0100
TZNAME:CET
DTSTART:20251026T010000
END:STANDARD
END:VTIMEZONE
BEGIN:VEVENT
DTSTART;TZID=Europe/Vienna:20240410T090000
DTEND;TZID=Europe/Vienna:20240410T150000
DTSTAMP:20260421T185847
CREATED:20240315T072732Z
LAST-MODIFIED:20240315T072732Z
UID:17853-1712739600-1712761200@www.umberio.at
SUMMARY:10. April 2024 - OO/OR Schulung
DESCRIPTION:(mehr …)
URL:https://www.umberio.at/event/10-april-2024-oo-or-schulung/
LOCATION:Donau Salzburg\, Friedensstraße 11\, Salzburg\, Salzburg\, 5020\, Österreich
CATEGORIES:Schulung
ORGANIZER;CN="umberio gmbh":MAILTO:s.ott@umberio.at
END:VEVENT
BEGIN:VEVENT
DTSTART;TZID=Europe/Vienna:20240418T090000
DTEND;TZID=Europe/Vienna:20240418T170000
DTSTAMP:20260421T185847
CREATED:20240206T074610Z
LAST-MODIFIED:20240220T064121Z
UID:17752-1713430800-1713459600@www.umberio.at
SUMMARY:Präsenzseminar mit Norbert Jagerhofer: D&O + Cyber
DESCRIPTION:(mehr …)
URL:https://www.umberio.at/event/praesenzseminar-mit-norbert-jagerhofer-do-cyber/
LOCATION:Wüstenrot Salzburg\, Alpenstrasse 70\, Salzburg\, Salzburg\, 5020\, Österreich
CATEGORIES:Schulung
ORGANIZER;CN="umberio gmbh":MAILTO:s.ott@umberio.at
END:VEVENT
BEGIN:VEVENT
DTSTART;TZID=Europe/Vienna:20240424T090000
DTEND;TZID=Europe/Vienna:20240424T150000
DTSTAMP:20260421T185847
CREATED:20240320T084555Z
LAST-MODIFIED:20240320T084555Z
UID:17864-1713949200-1713970800@www.umberio.at
SUMMARY:24. April 2024 - OO/OR Schulung
DESCRIPTION:(mehr …)
URL:https://www.umberio.at/event/24-april-2024-oo-or-schulung/
LOCATION:Wüstenrot Salzburg\, Alpenstrasse 70\, Salzburg\, Salzburg\, 5020\, Österreich
CATEGORIES:Schulung
ORGANIZER;CN="umberio gmbh":MAILTO:s.ott@umberio.at
END:VEVENT
END:VCALENDAR