BEGIN:VCALENDAR
VERSION:2.0
PRODID:-//umberio GmbH - ECPv6.15.17//NONSGML v1.0//EN
CALSCALE:GREGORIAN
METHOD:PUBLISH
X-WR-CALNAME:umberio GmbH
X-ORIGINAL-URL:https://www.umberio.at
X-WR-CALDESC:Veranstaltungen für umberio GmbH
REFRESH-INTERVAL;VALUE=DURATION:PT1H
X-Robots-Tag:noindex
X-PUBLISHED-TTL:PT1H
BEGIN:VTIMEZONE
TZID:Europe/Vienna
BEGIN:DAYLIGHT
TZOFFSETFROM:+0100
TZOFFSETTO:+0200
TZNAME:CEST
DTSTART:20230326T010000
END:DAYLIGHT
BEGIN:STANDARD
TZOFFSETFROM:+0200
TZOFFSETTO:+0100
TZNAME:CET
DTSTART:20231029T010000
END:STANDARD
BEGIN:DAYLIGHT
TZOFFSETFROM:+0100
TZOFFSETTO:+0200
TZNAME:CEST
DTSTART:20240331T010000
END:DAYLIGHT
BEGIN:STANDARD
TZOFFSETFROM:+0200
TZOFFSETTO:+0100
TZNAME:CET
DTSTART:20241027T010000
END:STANDARD
BEGIN:DAYLIGHT
TZOFFSETFROM:+0100
TZOFFSETTO:+0200
TZNAME:CEST
DTSTART:20250330T010000
END:DAYLIGHT
BEGIN:STANDARD
TZOFFSETFROM:+0200
TZOFFSETTO:+0100
TZNAME:CET
DTSTART:20251026T010000
END:STANDARD
END:VTIMEZONE
BEGIN:VEVENT
DTSTART;TZID=Europe/Vienna:20241107T093000
DTEND;TZID=Europe/Vienna:20241107T103000
DTSTAMP:20260421T092129
CREATED:20241029T155016Z
LAST-MODIFIED:20241029T155016Z
UID:18178-1730971800-1730975400@www.umberio.at
SUMMARY:OMDS-Daten Online-Schulung
DESCRIPTION:(mehr …)
URL:https://www.umberio.at/event/omds-daten-online-schulung/
LOCATION:Online
ORGANIZER;CN="umberio gmbh":MAILTO:s.ott@umberio.at
END:VEVENT
BEGIN:VEVENT
DTSTART;TZID=Europe/Vienna:20241128T100000
DTEND;TZID=Europe/Vienna:20241128T163000
DTSTAMP:20260421T092129
CREATED:20241021T070412Z
LAST-MODIFIED:20241020T175253Z
UID:18165-1732788000-1732811400@www.umberio.at
SUMMARY:28.11.2024 Weihnachtsfeier & Spartentreffen
DESCRIPTION:(mehr …)
URL:https://www.umberio.at/event/28-11-2024-weihnachtsfeier-spartentreffen/
LOCATION:Wüstenrot Salzburg\, Alpenstrasse 70\, Salzburg\, Salzburg\, 5020\, Österreich
ORGANIZER;CN="umberio gmbh":MAILTO:s.ott@umberio.at
END:VEVENT
END:VCALENDAR